BEGIN:VCALENDAR
VERSION:2.0
PRODID:-//Salmo Community Resource Society - ECPv4.6.26//NONSGML v1.0//EN
CALSCALE:GREGORIAN
METHOD:PUBLISH
X-WR-CALNAME:Salmo Community Resource Society
X-ORIGINAL-URL:https://scrs.ca
X-WR-CALDESC:Events for Salmo Community Resource Society
BEGIN:VEVENT
DTSTART;TZID=America/Vancouver:20201030T090000
DTEND;TZID=America/Vancouver:20201030T110000
DTSTAMP:20260420T074833
CREATED:20201020T213659Z
LAST-MODIFIED:20201020T213659Z
UID:2785-1604048400-1604055600@scrs.ca
SUMMARY:Halloween for Hunger
DESCRIPTION: \n
URL:https://scrs.ca/event/halloween-for-hunger/
ORGANIZER;CN="SCRS":MAILTO:charlene@scrs.ca
END:VEVENT
END:VCALENDAR