BEGIN:VCALENDAR
VERSION:2.0
PRODID:-//Salmo Community Resource Society - ECPv4.6.26//NONSGML v1.0//EN
CALSCALE:GREGORIAN
METHOD:PUBLISH
X-WR-CALNAME:Salmo Community Resource Society
X-ORIGINAL-URL:https://scrs.ca
X-WR-CALDESC:Events for Salmo Community Resource Society
BEGIN:VEVENT
DTSTART;TZID=America/Vancouver:20190910T100000
DTEND;TZID=America/Vancouver:20190910T113000
DTSTAMP:20260423T205507
CREATED:20190905T204034Z
LAST-MODIFIED:20190905T204034Z
UID:2165-1568109600-1568115000@scrs.ca
SUMMARY:Ymir Family Support Group
DESCRIPTION: \n
URL:https://scrs.ca/event/ymir-family-support-group-7/2019-09-10/
LOCATION:Ymir Schoolhouse\, Ymir\, bc\, V0G 2K0\, Canada
GEO:49.2744002;-117.200803
ORGANIZER;CN="SCRS":MAILTO:charlene@scrs.ca
END:VEVENT
END:VCALENDAR