BEGIN:VCALENDAR
VERSION:2.0
PRODID:-//Salmo Community Resource Society - ECPv4.6.26//NONSGML v1.0//EN
CALSCALE:GREGORIAN
METHOD:PUBLISH
X-WR-CALNAME:Salmo Community Resource Society
X-ORIGINAL-URL:https://scrs.ca
X-WR-CALDESC:Events for Salmo Community Resource Society
BEGIN:VEVENT
DTSTART;TZID=UTC+0:20170801T110000
DTEND;TZID=UTC+0:20170801T130000
DTSTAMP:20260423T074352
CREATED:20170731T111931Z
LAST-MODIFIED:20170731T111931Z
UID:220-1501585200-1501592400@scrs.ca
SUMMARY:Ymir Family Support Group
DESCRIPTION:
URL:https://scrs.ca/event/ymir-family-support-group/
LOCATION:Ymir Hall\, First Avenue at Cherry Street\, Ymir\, British Columbia\, V0G 2K0\, Canada
GEO:49.282247;-117.213974
X-APPLE-STRUCTURED-LOCATION;VALUE=URI;X-ADDRESS=Ymir Hall First Avenue at Cherry Street Ymir British Columbia V0G 2K0 Canada;X-APPLE-RADIUS=500;X-TITLE=First Avenue at Cherry Street:geo:-117.213974,49.282247
END:VEVENT
END:VCALENDAR