BEGIN:VCALENDAR
VERSION:2.0
PRODID:-//Salmo Community Resource Society - ECPv4.6.26//NONSGML v1.0//EN
CALSCALE:GREGORIAN
METHOD:PUBLISH
X-WR-CALNAME:Salmo Community Resource Society
X-ORIGINAL-URL:https://scrs.ca
X-WR-CALDESC:Events for Salmo Community Resource Society
BEGIN:VEVENT
DTSTART;TZID=UTC+0:20171020T100000
DTEND;TZID=UTC+0:20171020T110000
DTSTAMP:20260422T025951
CREATED:20170920T031822Z
LAST-MODIFIED:20170920T055345Z
UID:1089-1508493600-1508497200@scrs.ca
SUMMARY:Test Event
DESCRIPTION: \n
URL:https://scrs.ca/event/test-event-2017-10-20/
LOCATION:SCRS\, 311 Railway Ave.\, Salmo\, British Columbia\, V0G 1Z0\, Canada
GEO:49.1955258;-117.278243
X-APPLE-STRUCTURED-LOCATION;VALUE=URI;X-ADDRESS=SCRS 311 Railway Ave. Salmo British Columbia V0G 1Z0 Canada;X-APPLE-RADIUS=500;X-TITLE=311 Railway Ave.:geo:-117.278243,49.1955258
ORGANIZER;CN="SCRS":MAILTO:charlene@scrs.ca
END:VEVENT
END:VCALENDAR