BEGIN:VCALENDAR
VERSION:2.0
PRODID:-//Salmo Community Resource Society - ECPv4.6.26//NONSGML v1.0//EN
CALSCALE:GREGORIAN
METHOD:PUBLISH
X-WR-CALNAME:Salmo Community Resource Society
X-ORIGINAL-URL:https://scrs.ca
X-WR-CALDESC:Events for Salmo Community Resource Society
BEGIN:VEVENT
DTSTART;TZID=UTC+0:20171201T170000
DTEND;TZID=UTC+0:20171201T200000
DTSTAMP:20260421T123429
CREATED:20171128T085145Z
LAST-MODIFIED:20171128T085145Z
UID:1245-1512147600-1512158400@scrs.ca
SUMMARY:Remember in December
DESCRIPTION: \n
URL:https://scrs.ca/event/remember-in-december/
LOCATION:Heritage Hub\, 423 Railway Avenue\, Salmo\, BC\, V0G 1Z0\, Canada
GEO:49.1939043;-117.280306
X-APPLE-STRUCTURED-LOCATION;VALUE=URI;X-ADDRESS=Heritage Hub 423 Railway Avenue Salmo BC V0G 1Z0 Canada;X-APPLE-RADIUS=500;X-TITLE=423 Railway Avenue:geo:-117.280306,49.1939043
ORGANIZER;CN="SCRS":MAILTO:charlene@scrs.ca
END:VEVENT
END:VCALENDAR