BEGIN:VCALENDAR
VERSION:2.0
PRODID:-//Salmo Community Resource Society - ECPv4.6.26//NONSGML v1.0//EN
CALSCALE:GREGORIAN
METHOD:PUBLISH
X-WR-CALNAME:Salmo Community Resource Society
X-ORIGINAL-URL:https://scrs.ca
X-WR-CALDESC:Events for Salmo Community Resource Society
BEGIN:VEVENT
DTSTART;TZID=UTC+0:20170914T100000
DTEND;TZID=UTC+0:20170914T113000
DTSTAMP:20260422T012134
CREATED:20170912T063843Z
LAST-MODIFIED:20170912T070455Z
UID:427-1505383200-1505388600@scrs.ca
SUMMARY:Parenting Circle
DESCRIPTION: \n
URL:https://scrs.ca/event/parenting-circle-6/2017-09-14/
LOCATION:Family Resource Room\, 206 7th Street\, Salmo\, BC\, V0G 1Z0\, Canada
GEO:49.191029;-117.280962
X-APPLE-STRUCTURED-LOCATION;VALUE=URI;X-ADDRESS=Family Resource Room 206 7th Street Salmo BC V0G 1Z0 Canada;X-APPLE-RADIUS=500;X-TITLE=206 7th Street:geo:-117.280962,49.191029
CATEGORIES:CAPC
END:VEVENT
END:VCALENDAR