BEGIN:VCALENDAR
VERSION:2.0
PRODID:-//Salmo Community Resource Society - ECPv4.6.26//NONSGML v1.0//EN
CALSCALE:GREGORIAN
METHOD:PUBLISH
X-WR-CALNAME:Salmo Community Resource Society
X-ORIGINAL-URL:https://scrs.ca
X-WR-CALDESC:Events for Salmo Community Resource Society
BEGIN:VEVENT
DTSTART;TZID=UTC+0:20171129T090000
DTEND;TZID=UTC+0:20171129T160000
DTSTAMP:20260421T152204
CREATED:20171128T085451Z
LAST-MODIFIED:20171128T085451Z
UID:1252-1511946000-1511971200@scrs.ca
SUMMARY:Christmas Hamper Applications
DESCRIPTION: \n
URL:https://scrs.ca/event/christmas-hamper-applications-3/
ORGANIZER;CN="SCRS":MAILTO:charlene@scrs.ca
END:VEVENT
END:VCALENDAR