BEGIN:VCALENDAR
VERSION:2.0
PRODID:-//Salmo Community Resource Society - ECPv4.6.26//NONSGML v1.0//EN
CALSCALE:GREGORIAN
METHOD:PUBLISH
X-WR-CALNAME:Salmo Community Resource Society
X-ORIGINAL-URL:https://scrs.ca
X-WR-CALDESC:Events for Salmo Community Resource Society
BEGIN:VEVENT
DTSTART;TZID=UTC+0:20171003T160000
DTEND;TZID=UTC+0:20171003T180000
DTSTAMP:20260422T042830
CREATED:20170914T015710Z
LAST-MODIFIED:20170914T020218Z
UID:751-1507046400-1507053600@scrs.ca
SUMMARY:Aboriginal Family Gatherings
DESCRIPTION:
URL:https://scrs.ca/event/aboriginal-family-gatherings/2017-10-03/
LOCATION:SCRS\, 311 Railway Ave.\, Salmo\, British Columbia\, V0G 1Z0\, Canada
GEO:49.1955258;-117.278243
X-APPLE-STRUCTURED-LOCATION;VALUE=URI;X-ADDRESS=SCRS 311 Railway Ave. Salmo British Columbia V0G 1Z0 Canada;X-APPLE-RADIUS=500;X-TITLE=311 Railway Ave.:geo:-117.278243,49.1955258
CATEGORIES:Aboriginal_Services
ATTACH;FMTTYPE=image/jpeg:https://scrs.ca/wp-content/uploads/2017/09/SCRS_Aborigianl_Family_Gatherings.jpg
ORGANIZER;CN="SCRS":MAILTO:charlene@scrs.ca
END:VEVENT
END:VCALENDAR